BEGIN:VCALENDAR
VERSION:2.0
PRODID:-//North Pacific Union Conference of Seventh-day Adventists - ECPv6.15.12.2//NONSGML v1.0//EN
CALSCALE:GREGORIAN
METHOD:PUBLISH
X-WR-CALNAME:North Pacific Union Conference of Seventh-day Adventists
X-ORIGINAL-URL:https://npuc.org
X-WR-CALDESC:Events for North Pacific Union Conference of Seventh-day Adventists
REFRESH-INTERVAL;VALUE=DURATION:PT1H
X-Robots-Tag:noindex
X-PUBLISHED-TTL:PT1H
BEGIN:VTIMEZONE
TZID:America/New_York
BEGIN:DAYLIGHT
TZOFFSETFROM:-0500
TZOFFSETTO:-0400
TZNAME:EDT
DTSTART:20200308T070000
END:DAYLIGHT
BEGIN:STANDARD
TZOFFSETFROM:-0400
TZOFFSETTO:-0500
TZNAME:EST
DTSTART:20201101T060000
END:STANDARD
BEGIN:DAYLIGHT
TZOFFSETFROM:-0500
TZOFFSETTO:-0400
TZNAME:EDT
DTSTART:20210314T070000
END:DAYLIGHT
BEGIN:STANDARD
TZOFFSETFROM:-0400
TZOFFSETTO:-0500
TZNAME:EST
DTSTART:20211107T060000
END:STANDARD
BEGIN:DAYLIGHT
TZOFFSETFROM:-0500
TZOFFSETTO:-0400
TZNAME:EDT
DTSTART:20220313T070000
END:DAYLIGHT
BEGIN:STANDARD
TZOFFSETFROM:-0400
TZOFFSETTO:-0500
TZNAME:EST
DTSTART:20221106T060000
END:STANDARD
END:VTIMEZONE
BEGIN:VEVENT
DTSTART;TZID=America/New_York:20210614T130000
DTEND;TZID=America/New_York:20210614T163000
DTSTAMP:20260421T061310
CREATED:20210525T233549Z
LAST-MODIFIED:20210614T181908Z
UID:10002791-1623675600-1623688200@npuc.org
SUMMARY:Copy: Andrews Board of Trustees
DESCRIPTION:
URL:https://npuc.org/event/copy-andrews-board-of-trustees
LOCATION:Maryland
CATEGORIES:General
END:VEVENT
END:VCALENDAR