BEGIN:VCALENDAR
VERSION:2.0
PRODID:-//North Pacific Union Conference of Seventh-day Adventists - ECPv6.15.12.2//NONSGML v1.0//EN
CALSCALE:GREGORIAN
METHOD:PUBLISH
X-ORIGINAL-URL:https://npuc.org
X-WR-CALDESC:Events for North Pacific Union Conference of Seventh-day Adventists
REFRESH-INTERVAL;VALUE=DURATION:PT1H
X-Robots-Tag:noindex
X-PUBLISHED-TTL:PT1H
BEGIN:VTIMEZONE
TZID:America/Los_Angeles
BEGIN:DAYLIGHT
TZOFFSETFROM:-0800
TZOFFSETTO:-0700
TZNAME:PDT
DTSTART:20200308T100000
END:DAYLIGHT
BEGIN:STANDARD
TZOFFSETFROM:-0700
TZOFFSETTO:-0800
TZNAME:PST
DTSTART:20201101T090000
END:STANDARD
BEGIN:DAYLIGHT
TZOFFSETFROM:-0800
TZOFFSETTO:-0700
TZNAME:PDT
DTSTART:20210314T100000
END:DAYLIGHT
BEGIN:STANDARD
TZOFFSETFROM:-0700
TZOFFSETTO:-0800
TZNAME:PST
DTSTART:20211107T090000
END:STANDARD
BEGIN:DAYLIGHT
TZOFFSETFROM:-0800
TZOFFSETTO:-0700
TZNAME:PDT
DTSTART:20220313T100000
END:DAYLIGHT
BEGIN:STANDARD
TZOFFSETFROM:-0700
TZOFFSETTO:-0800
TZNAME:PST
DTSTART:20221106T090000
END:STANDARD
END:VTIMEZONE
BEGIN:VTIMEZONE
TZID:UTC
BEGIN:STANDARD
TZOFFSETFROM:+0000
TZOFFSETTO:+0000
TZNAME:UTC
DTSTART:20200101T000000
END:STANDARD
END:VTIMEZONE
BEGIN:VEVENT
DTSTART;TZID=America/Los_Angeles:20210618T000000
DTEND;TZID=America/Los_Angeles:20210626T235959
DTSTAMP:20260421T024945
CREATED:20210406T173550Z
LAST-MODIFIED:20210626T192114Z
UID:10002531-1623974400-1624751999@npuc.org
SUMMARY:Washington Conference Camp meeting
DESCRIPTION:
URL:https://npuc.org/event/washington-conference-camp-meeting
LOCATION:virtual
CATEGORIES:General
END:VEVENT
BEGIN:VEVENT
DTSTART;TZID=UTC:20210622T080000
DTEND;TZID=UTC:20210627T000000
DTSTAMP:20260421T024945
CREATED:20210406T233512Z
LAST-MODIFIED:20210626T194910Z
UID:10002570-1624348800-1624752000@npuc.org
SUMMARY:NPUC DinoDig
DESCRIPTION:
URL:https://npuc.org/event/dinodig
LOCATION:NE Wyoming
CATEGORIES:Creation
END:VEVENT
END:VCALENDAR