BEGIN:VCALENDAR
VERSION:2.0
PRODID:-//North Pacific Union Conference of Seventh-day Adventists - ECPv6.15.12.2//NONSGML v1.0//EN
CALSCALE:GREGORIAN
METHOD:PUBLISH
X-WR-CALNAME:North Pacific Union Conference of Seventh-day Adventists
X-ORIGINAL-URL:https://npuc.org
X-WR-CALDESC:Events for North Pacific Union Conference of Seventh-day Adventists
REFRESH-INTERVAL;VALUE=DURATION:PT1H
X-Robots-Tag:noindex
X-PUBLISHED-TTL:PT1H
BEGIN:VTIMEZONE
TZID:UTC
BEGIN:STANDARD
TZOFFSETFROM:+0000
TZOFFSETTO:+0000
TZNAME:UTC
DTSTART:20200101T000000
END:STANDARD
END:VTIMEZONE
BEGIN:VEVENT
DTSTART;TZID=UTC:20210816T000000
DTEND;TZID=UTC:20210818T235959
DTSTAMP:20260420T201809
CREATED:20210812T213356Z
LAST-MODIFIED:20210818T213358Z
UID:10002848-1629072000-1629331199@npuc.org
SUMMARY:PUC Ministerial Meetings
DESCRIPTION:
URL:https://npuc.org/event/puc-ministerial-meetings
LOCATION:Tucson JW Marriott Starr Pass Resort
CATEGORIES:Creation
END:VEVENT
END:VCALENDAR