BEGIN:VCALENDAR
VERSION:2.0
PRODID:-//North Pacific Union Conference of Seventh-day Adventists - ECPv6.15.12.2//NONSGML v1.0//EN
CALSCALE:GREGORIAN
METHOD:PUBLISH
X-ORIGINAL-URL:https://npuc.org
X-WR-CALDESC:Events for North Pacific Union Conference of Seventh-day Adventists
REFRESH-INTERVAL;VALUE=DURATION:PT1H
X-Robots-Tag:noindex
X-PUBLISHED-TTL:PT1H
BEGIN:VTIMEZONE
TZID:America/Denver
BEGIN:DAYLIGHT
TZOFFSETFROM:-0700
TZOFFSETTO:-0600
TZNAME:MDT
DTSTART:20200308T090000
END:DAYLIGHT
BEGIN:STANDARD
TZOFFSETFROM:-0600
TZOFFSETTO:-0700
TZNAME:MST
DTSTART:20201101T080000
END:STANDARD
BEGIN:DAYLIGHT
TZOFFSETFROM:-0700
TZOFFSETTO:-0600
TZNAME:MDT
DTSTART:20210314T090000
END:DAYLIGHT
BEGIN:STANDARD
TZOFFSETFROM:-0600
TZOFFSETTO:-0700
TZNAME:MST
DTSTART:20211107T080000
END:STANDARD
BEGIN:DAYLIGHT
TZOFFSETFROM:-0700
TZOFFSETTO:-0600
TZNAME:MDT
DTSTART:20220313T090000
END:DAYLIGHT
BEGIN:STANDARD
TZOFFSETFROM:-0600
TZOFFSETTO:-0700
TZNAME:MST
DTSTART:20221106T080000
END:STANDARD
END:VTIMEZONE
BEGIN:VEVENT
DTSTART;TZID=America/Denver:20210822T093000
DTEND;TZID=America/Denver:20210822T160000
DTSTAMP:20260420T233301
CREATED:20210622T191949Z
LAST-MODIFIED:20210822T213345Z
UID:10002837-1629624600-1629648000@npuc.org
SUMMARY:Idaho Conference Executive Committee
DESCRIPTION:Sunday\, August 22\, 2021 – Idaho Conference office\, Boise\, ID\, 9:30 am MT \nFrom: Jo Ann Miller Sent: Wednesday\, June 16\, 2021 11:52 AMTo: Kristina LopezSubject: RE: Next BoD meeting \nElder Prest and John Rogers are hoping that August and October will be in person. \nThank you
URL:https://npuc.org/event/idaho-conference-executive-committee
LOCATION:Boise\, ID
CATEGORIES:General
END:VEVENT
END:VCALENDAR