BEGIN:VCALENDAR
VERSION:2.0
PRODID:-//North Pacific Union Conference of Seventh-day Adventists - ECPv6.15.12.2//NONSGML v1.0//EN
CALSCALE:GREGORIAN
METHOD:PUBLISH
X-ORIGINAL-URL:https://npuc.org
X-WR-CALDESC:Events for North Pacific Union Conference of Seventh-day Adventists
REFRESH-INTERVAL;VALUE=DURATION:PT1H
X-Robots-Tag:noindex
X-PUBLISHED-TTL:PT1H
BEGIN:VTIMEZONE
TZID:America/Los_Angeles
BEGIN:DAYLIGHT
TZOFFSETFROM:-0800
TZOFFSETTO:-0700
TZNAME:PDT
DTSTART:20200308T100000
END:DAYLIGHT
BEGIN:STANDARD
TZOFFSETFROM:-0700
TZOFFSETTO:-0800
TZNAME:PST
DTSTART:20201101T090000
END:STANDARD
BEGIN:DAYLIGHT
TZOFFSETFROM:-0800
TZOFFSETTO:-0700
TZNAME:PDT
DTSTART:20210314T100000
END:DAYLIGHT
BEGIN:STANDARD
TZOFFSETFROM:-0700
TZOFFSETTO:-0800
TZNAME:PST
DTSTART:20211107T090000
END:STANDARD
BEGIN:DAYLIGHT
TZOFFSETFROM:-0800
TZOFFSETTO:-0700
TZNAME:PDT
DTSTART:20220313T100000
END:DAYLIGHT
BEGIN:STANDARD
TZOFFSETFROM:-0700
TZOFFSETTO:-0800
TZNAME:PST
DTSTART:20221106T090000
END:STANDARD
END:VTIMEZONE
BEGIN:VEVENT
DTSTART;TZID=America/Los_Angeles:20210913T100000
DTEND;TZID=America/Los_Angeles:20210915T123000
DTSTAMP:20260420T173333
CREATED:20210519T225100Z
LAST-MODIFIED:20210914T221848Z
UID:10002776-1631527200-1631709000@npuc.org
SUMMARY:2021 Risk Managment Conference
DESCRIPTION:Monday\, September 13 \n1:00 pm — Opening meeting / Plenary session (75 min)2:15 pm — Breakout sessions (60 min)Tuesday\, September 14 \n1:00 pm — Plenary session (75 min)2:15 pm — Breakout sessions (60 min)Wednesday\, September 15 \n1:00 pm — Breakout sessions (60 min)2:00 pm — Closing meeting / Plenary session (75 min) All times listed are EDT. A full list of speakers and sessions will be announced soon.
URL:https://npuc.org/event/2021-risk-managment-conference
LOCATION:Zoom
CATEGORIES:General
END:VEVENT
END:VCALENDAR