BEGIN:VCALENDAR
VERSION:2.0
PRODID:-//North Pacific Union Conference of Seventh-day Adventists - ECPv6.15.12.2//NONSGML v1.0//EN
CALSCALE:GREGORIAN
METHOD:PUBLISH
X-WR-CALNAME:North Pacific Union Conference of Seventh-day Adventists
X-ORIGINAL-URL:https://npuc.org
X-WR-CALDESC:Events for North Pacific Union Conference of Seventh-day Adventists
REFRESH-INTERVAL;VALUE=DURATION:PT1H
X-Robots-Tag:noindex
X-PUBLISHED-TTL:PT1H
BEGIN:VTIMEZONE
TZID:America/Los_Angeles
BEGIN:DAYLIGHT
TZOFFSETFROM:-0800
TZOFFSETTO:-0700
TZNAME:PDT
DTSTART:20200308T100000
END:DAYLIGHT
BEGIN:STANDARD
TZOFFSETFROM:-0700
TZOFFSETTO:-0800
TZNAME:PST
DTSTART:20201101T090000
END:STANDARD
BEGIN:DAYLIGHT
TZOFFSETFROM:-0800
TZOFFSETTO:-0700
TZNAME:PDT
DTSTART:20210314T100000
END:DAYLIGHT
BEGIN:STANDARD
TZOFFSETFROM:-0700
TZOFFSETTO:-0800
TZNAME:PST
DTSTART:20211107T090000
END:STANDARD
BEGIN:DAYLIGHT
TZOFFSETFROM:-0800
TZOFFSETTO:-0700
TZNAME:PDT
DTSTART:20220313T100000
END:DAYLIGHT
BEGIN:STANDARD
TZOFFSETFROM:-0700
TZOFFSETTO:-0800
TZNAME:PST
DTSTART:20221106T090000
END:STANDARD
END:VTIMEZONE
BEGIN:VTIMEZONE
TZID:UTC
BEGIN:STANDARD
TZOFFSETFROM:+0000
TZOFFSETTO:+0000
TZNAME:UTC
DTSTART:20200101T000000
END:STANDARD
END:VTIMEZONE
BEGIN:VEVENT
DTSTART;TZID=America/Los_Angeles:20210916T000000
DTEND;TZID=America/Los_Angeles:20210918T235959
DTSTAMP:20260420T131438
CREATED:20210406T173555Z
LAST-MODIFIED:20210918T174847Z
UID:10002677-1631750400-1632009599@npuc.org
SUMMARY:NPUC ACS/Disaster Relief/Urban Ministry Convention
DESCRIPTION:When: Thursday\, September 16\, 2021 to Saturday\, September 18\, 2021.Location: Online EventAll Times in PDT \nThursday\, September 16\, 20216:00 pm Plenary Session #1: Keynote Address7:00 pm Seminars #18:00 pm Recess \nFriday\, September 17\, 202110:00 am Plenary Session #211:00 am Seminars #212:30 pm Lunch6:00 pm Seminars #37:00 pm Plenary Session #38:00 pm Recess \nSabbath\, September 18\, 20219:00 am Plenary Session #410:00 am Seminars #411:00 am Plenary Session #512:30 pm Lunch2:00-3:00 pm Plenary Session #6 – Ted Type Talks3:00 pm Seminars #54:00 pm Plenary #7: The Challenge5:50 pm Convention End
URL:https://npuc.org/event/npuc-acs-disaster-relief-urban-ministry-convention-2
LOCATION:Online Event
CATEGORIES:General
END:VEVENT
BEGIN:VEVENT
DTSTART;TZID=UTC:20210917T000000
DTEND;TZID=UTC:20210918T235959
DTSTAMP:20260420T131438
CREATED:20210603T163559Z
LAST-MODIFIED:20210918T224856Z
UID:10002608-1631836800-1632009599@npuc.org
SUMMARY:Creation Seminar by Dr. Stan Hudson
DESCRIPTION:
URL:https://npuc.org/event/creation-seminar-tom-nicholas-541-315-8941
LOCATION:Reedsport Church\, OR
CATEGORIES:Creation
END:VEVENT
END:VCALENDAR