BEGIN:VCALENDAR
VERSION:2.0
PRODID:-//North Pacific Union Conference of Seventh-day Adventists - ECPv6.15.12.2//NONSGML v1.0//EN
CALSCALE:GREGORIAN
METHOD:PUBLISH
X-WR-CALNAME:North Pacific Union Conference of Seventh-day Adventists
X-ORIGINAL-URL:https://npuc.org
X-WR-CALDESC:Events for North Pacific Union Conference of Seventh-day Adventists
REFRESH-INTERVAL;VALUE=DURATION:PT1H
X-Robots-Tag:noindex
X-PUBLISHED-TTL:PT1H
BEGIN:VTIMEZONE
TZID:UTC
BEGIN:STANDARD
TZOFFSETFROM:+0000
TZOFFSETTO:+0000
TZNAME:UTC
DTSTART:20200101T000000
END:STANDARD
END:VTIMEZONE
BEGIN:VEVENT
DTSTART;TZID=UTC:20210924T080000
DTEND;TZID=UTC:20210925T083000
DTSTAMP:20260420T065238
CREATED:20210406T233513Z
LAST-MODIFIED:20210924T224848Z
UID:10002574-1632470400-1632558600@npuc.org
SUMMARY:Creation Seminar by Dr. Stan Hudson
DESCRIPTION:1st presentation at 6:00 PM on 9/24 at the motel conference room.2nd presentation at 11:30 AM on 9/25 at the church3rd presentation at 6:00 PM on 9/25 at the motel conference room.
URL:https://npuc.org/event/creation-seminar-by-dr-stan-hudson-2
LOCATION:Kamiah\, ID
CATEGORIES:Creation
END:VEVENT
END:VCALENDAR