BEGIN:VCALENDAR
VERSION:2.0
PRODID:-//North Pacific Union Conference of Seventh-day Adventists - ECPv6.15.12.2//NONSGML v1.0//EN
CALSCALE:GREGORIAN
METHOD:PUBLISH
X-WR-CALNAME:North Pacific Union Conference of Seventh-day Adventists
X-ORIGINAL-URL:https://npuc.org
X-WR-CALDESC:Events for North Pacific Union Conference of Seventh-day Adventists
REFRESH-INTERVAL;VALUE=DURATION:PT1H
X-Robots-Tag:noindex
X-PUBLISHED-TTL:PT1H
BEGIN:VTIMEZONE
TZID:America/Los_Angeles
BEGIN:DAYLIGHT
TZOFFSETFROM:-0800
TZOFFSETTO:-0700
TZNAME:PDT
DTSTART:20210314T100000
END:DAYLIGHT
BEGIN:STANDARD
TZOFFSETFROM:-0700
TZOFFSETTO:-0800
TZNAME:PST
DTSTART:20211107T090000
END:STANDARD
BEGIN:DAYLIGHT
TZOFFSETFROM:-0800
TZOFFSETTO:-0700
TZNAME:PDT
DTSTART:20220313T100000
END:DAYLIGHT
BEGIN:STANDARD
TZOFFSETFROM:-0700
TZOFFSETTO:-0800
TZNAME:PST
DTSTART:20221106T090000
END:STANDARD
BEGIN:DAYLIGHT
TZOFFSETFROM:-0800
TZOFFSETTO:-0700
TZNAME:PDT
DTSTART:20230312T100000
END:DAYLIGHT
BEGIN:STANDARD
TZOFFSETFROM:-0700
TZOFFSETTO:-0800
TZNAME:PST
DTSTART:20231105T090000
END:STANDARD
BEGIN:DAYLIGHT
TZOFFSETFROM:-0800
TZOFFSETTO:-0700
TZNAME:PDT
DTSTART:20240310T100000
END:DAYLIGHT
BEGIN:STANDARD
TZOFFSETFROM:-0700
TZOFFSETTO:-0800
TZNAME:PST
DTSTART:20241103T090000
END:STANDARD
END:VTIMEZONE
BEGIN:VEVENT
DTSTART;TZID=America/Los_Angeles:20221215T000000
DTEND;TZID=America/Los_Angeles:20230101T235959
DTSTAMP:20260419T120121
CREATED:20221009T020404Z
LAST-MODIFIED:20221009T020404Z
UID:10003290-1671062400-1672617599@npuc.org
SUMMARY:Walla Walla University Christmas Vacation
DESCRIPTION:
URL:https://npuc.org/event/walla-walla-university-christmas-vacation-12
LOCATION:Maryland
CATEGORIES:General
END:VEVENT
BEGIN:VEVENT
DTSTART;TZID=America/Los_Angeles:20230101T000000
DTEND;TZID=America/Los_Angeles:20230101T235959
DTSTAMP:20260419T120121
CREATED:20221009T020404Z
LAST-MODIFIED:20221009T020404Z
UID:10003289-1672531200-1672617599@npuc.org
SUMMARY:New Year's Day
DESCRIPTION:
URL:https://npuc.org/event/new-years-day-12
LOCATION:NPUC Office Closed\, North 20th Street 5709\, Ridgefield\, Washington\, 98642\, United States
CATEGORIES:General
GEO:45.829254;-122.689042
X-APPLE-STRUCTURED-LOCATION;VALUE=URI;X-ADDRESS=NPUC Office Closed North 20th Street 5709 Ridgefield Washington 98642 United States;X-APPLE-RADIUS=500;X-TITLE=North 20th Street 5709:geo:-122.689042,45.829254
END:VEVENT
END:VCALENDAR