BEGIN:VCALENDAR
VERSION:2.0
PRODID:-//North Pacific Union Conference of Seventh-day Adventists - ECPv6.15.12.2//NONSGML v1.0//EN
CALSCALE:GREGORIAN
METHOD:PUBLISH
X-ORIGINAL-URL:https://npuc.org
X-WR-CALDESC:Events for North Pacific Union Conference of Seventh-day Adventists
REFRESH-INTERVAL;VALUE=DURATION:PT1H
X-Robots-Tag:noindex
X-PUBLISHED-TTL:PT1H
BEGIN:VTIMEZONE
TZID:America/Los_Angeles
BEGIN:DAYLIGHT
TZOFFSETFROM:-0800
TZOFFSETTO:-0700
TZNAME:PDT
DTSTART:20220313T100000
END:DAYLIGHT
BEGIN:STANDARD
TZOFFSETFROM:-0700
TZOFFSETTO:-0800
TZNAME:PST
DTSTART:20221106T090000
END:STANDARD
BEGIN:DAYLIGHT
TZOFFSETFROM:-0800
TZOFFSETTO:-0700
TZNAME:PDT
DTSTART:20230312T100000
END:DAYLIGHT
BEGIN:STANDARD
TZOFFSETFROM:-0700
TZOFFSETTO:-0800
TZNAME:PST
DTSTART:20231105T090000
END:STANDARD
BEGIN:DAYLIGHT
TZOFFSETFROM:-0800
TZOFFSETTO:-0700
TZNAME:PDT
DTSTART:20240310T100000
END:DAYLIGHT
BEGIN:STANDARD
TZOFFSETFROM:-0700
TZOFFSETTO:-0800
TZNAME:PST
DTSTART:20241103T090000
END:STANDARD
END:VTIMEZONE
BEGIN:VEVENT
DTSTART;TZID=America/Los_Angeles:20230108T000000
DTEND;TZID=America/Los_Angeles:20230111T235959
DTSTAMP:20260419T133106
CREATED:20221009T020405Z
LAST-MODIFIED:20221009T020405Z
UID:10003295-1673136000-1673481599@npuc.org
SUMMARY:NAD Ministries Convention
DESCRIPTION:
URL:https://npuc.org/event/nad-ministries-convention-11
LOCATION:Greensboro\, NC
CATEGORIES:General
END:VEVENT
BEGIN:VEVENT
DTSTART;TZID=America/Los_Angeles:20230109T000000
DTEND;TZID=America/Los_Angeles:20230113T235959
DTSTAMP:20260419T133106
CREATED:20221009T000424Z
LAST-MODIFIED:20221009T000424Z
UID:10003700-1673222400-1673654399@npuc.org
SUMMARY:Creation Week of Prayer
DESCRIPTION:
URL:https://npuc.org/event/creation-week-of-prayer-100
LOCATION:Eagle Adventist Christian School in Eagle\, ID
CATEGORIES:Creation
END:VEVENT
END:VCALENDAR