BEGIN:VCALENDAR
VERSION:2.0
PRODID:-//North Pacific Union Conference of Seventh-day Adventists - ECPv6.15.12.2//NONSGML v1.0//EN
CALSCALE:GREGORIAN
METHOD:PUBLISH
X-ORIGINAL-URL:https://npuc.org
X-WR-CALDESC:Events for North Pacific Union Conference of Seventh-day Adventists
REFRESH-INTERVAL;VALUE=DURATION:PT1H
X-Robots-Tag:noindex
X-PUBLISHED-TTL:PT1H
BEGIN:VTIMEZONE
TZID:UTC
BEGIN:STANDARD
TZOFFSETFROM:+0000
TZOFFSETTO:+0000
TZNAME:UTC
DTSTART:20200101T000000
END:STANDARD
END:VTIMEZONE
BEGIN:VTIMEZONE
TZID:America/Los_Angeles
BEGIN:DAYLIGHT
TZOFFSETFROM:-0800
TZOFFSETTO:-0700
TZNAME:PDT
DTSTART:20200308T100000
END:DAYLIGHT
BEGIN:STANDARD
TZOFFSETFROM:-0700
TZOFFSETTO:-0800
TZNAME:PST
DTSTART:20201101T090000
END:STANDARD
BEGIN:DAYLIGHT
TZOFFSETFROM:-0800
TZOFFSETTO:-0700
TZNAME:PDT
DTSTART:20210314T100000
END:DAYLIGHT
BEGIN:STANDARD
TZOFFSETFROM:-0700
TZOFFSETTO:-0800
TZNAME:PST
DTSTART:20211107T090000
END:STANDARD
BEGIN:DAYLIGHT
TZOFFSETFROM:-0800
TZOFFSETTO:-0700
TZNAME:PDT
DTSTART:20220313T100000
END:DAYLIGHT
BEGIN:STANDARD
TZOFFSETFROM:-0700
TZOFFSETTO:-0800
TZNAME:PST
DTSTART:20221106T090000
END:STANDARD
END:VTIMEZONE
BEGIN:VEVENT
DTSTART;TZID=UTC:20210911T000000
DTEND;TZID=UTC:20210912T235959
DTSTAMP:20260420T165245
CREATED:20210406T233513Z
LAST-MODIFIED:20210912T223347Z
UID:10002572-1631318400-1631491199@npuc.org
SUMMARY:Creation Seminar by Dr. Stan Hudson
DESCRIPTION:
URL:https://npuc.org/event/creation-seminar-by-dr-stan-hudson
LOCATION:Reedsport Adventist Church\, OR
CATEGORIES:Creation
END:VEVENT
BEGIN:VEVENT
DTSTART;TZID=America/Los_Angeles:20210913T100000
DTEND;TZID=America/Los_Angeles:20210915T123000
DTSTAMP:20260420T165245
CREATED:20210519T225100Z
LAST-MODIFIED:20210914T221848Z
UID:10002776-1631527200-1631709000@npuc.org
SUMMARY:2021 Risk Managment Conference
DESCRIPTION:Monday\, September 13 \n1:00 pm — Opening meeting / Plenary session (75 min)2:15 pm — Breakout sessions (60 min)Tuesday\, September 14 \n1:00 pm — Plenary session (75 min)2:15 pm — Breakout sessions (60 min)Wednesday\, September 15 \n1:00 pm — Breakout sessions (60 min)2:00 pm — Closing meeting / Plenary session (75 min) All times listed are EDT. A full list of speakers and sessions will be announced soon.
URL:https://npuc.org/event/2021-risk-managment-conference
LOCATION:Zoom
CATEGORIES:General
END:VEVENT
BEGIN:VEVENT
DTSTART;TZID=America/Los_Angeles:20210916T000000
DTEND;TZID=America/Los_Angeles:20210918T235959
DTSTAMP:20260420T165245
CREATED:20210406T173555Z
LAST-MODIFIED:20210918T174847Z
UID:10002677-1631750400-1632009599@npuc.org
SUMMARY:NPUC ACS/Disaster Relief/Urban Ministry Convention
DESCRIPTION:When: Thursday\, September 16\, 2021 to Saturday\, September 18\, 2021.Location: Online EventAll Times in PDT \nThursday\, September 16\, 20216:00 pm Plenary Session #1: Keynote Address7:00 pm Seminars #18:00 pm Recess \nFriday\, September 17\, 202110:00 am Plenary Session #211:00 am Seminars #212:30 pm Lunch6:00 pm Seminars #37:00 pm Plenary Session #38:00 pm Recess \nSabbath\, September 18\, 20219:00 am Plenary Session #410:00 am Seminars #411:00 am Plenary Session #512:30 pm Lunch2:00-3:00 pm Plenary Session #6 – Ted Type Talks3:00 pm Seminars #54:00 pm Plenary #7: The Challenge5:50 pm Convention End
URL:https://npuc.org/event/npuc-acs-disaster-relief-urban-ministry-convention-2
LOCATION:Online Event
CATEGORIES:General
END:VEVENT
BEGIN:VEVENT
DTSTART;TZID=UTC:20210917T000000
DTEND;TZID=UTC:20210918T235959
DTSTAMP:20260420T165245
CREATED:20210603T163559Z
LAST-MODIFIED:20210918T224856Z
UID:10002608-1631836800-1632009599@npuc.org
SUMMARY:Creation Seminar by Dr. Stan Hudson
DESCRIPTION:
URL:https://npuc.org/event/creation-seminar-tom-nicholas-541-315-8941
LOCATION:Reedsport Church\, OR
CATEGORIES:Creation
END:VEVENT
BEGIN:VEVENT
DTSTART;TZID=America/Los_Angeles:20210920T100000
DTEND;TZID=America/Los_Angeles:20210920T160000
DTSTAMP:20260420T165245
CREATED:20210406T173554Z
LAST-MODIFIED:20210920T174910Z
UID:10002675-1632132000-1632153600@npuc.org
SUMMARY:Montana Conference Executive Committee
DESCRIPTION:
URL:https://npuc.org/event/mtc-executive-committee-mark
LOCATION:Bozeman\, MT
CATEGORIES:General
END:VEVENT
BEGIN:VEVENT
DTSTART;TZID=America/Los_Angeles:20210921T000000
DTEND;TZID=America/Los_Angeles:20210921T235959
DTSTAMP:20260420T165245
CREATED:20210406T173555Z
LAST-MODIFIED:20210921T174903Z
UID:10002679-1632182400-1632268799@npuc.org
SUMMARY:Walla Walla University First Day of Classes
DESCRIPTION:
URL:https://npuc.org/event/walla-walla-university-first-day-of-classes
LOCATION:Maryland
CATEGORIES:General
END:VEVENT
BEGIN:VEVENT
DTSTART;TZID=America/Los_Angeles:20210923T100000
DTEND;TZID=America/Los_Angeles:20210923T160000
DTSTAMP:20260420T165245
CREATED:20210406T173556Z
LAST-MODIFIED:20210923T174915Z
UID:10002541-1632391200-1632412800@npuc.org
SUMMARY:Upper Columbia Conference Executive Committee
DESCRIPTION:
URL:https://npuc.org/event/upper-columbia-conference-executive-committee-bill
LOCATION:Spokane WA
CATEGORIES:General
END:VEVENT
BEGIN:VEVENT
DTSTART;TZID=UTC:20210924T080000
DTEND;TZID=UTC:20210925T083000
DTSTAMP:20260420T165245
CREATED:20210406T233513Z
LAST-MODIFIED:20210924T224848Z
UID:10002574-1632470400-1632558600@npuc.org
SUMMARY:Creation Seminar by Dr. Stan Hudson
DESCRIPTION:1st presentation at 6:00 PM on 9/24 at the motel conference room.2nd presentation at 11:30 AM on 9/25 at the church3rd presentation at 6:00 PM on 9/25 at the motel conference room.
URL:https://npuc.org/event/creation-seminar-by-dr-stan-hudson-2
LOCATION:Kamiah\, ID
CATEGORIES:Creation
END:VEVENT
BEGIN:VEVENT
DTSTART;TZID=America/Los_Angeles:20210926T093000
DTEND;TZID=America/Los_Angeles:20210926T160000
DTSTAMP:20260420T165245
CREATED:20210406T173556Z
LAST-MODIFIED:20210926T174907Z
UID:10002543-1632648600-1632672000@npuc.org
SUMMARY:Alaska Conference Executive Committee
DESCRIPTION:
URL:https://npuc.org/event/alaska-conference-executive-committee-john
LOCATION:Maryland
CATEGORIES:General
END:VEVENT
BEGIN:VEVENT
DTSTART;TZID=America/Los_Angeles:20210928T081500
DTEND;TZID=America/Los_Angeles:20211001T091500
DTSTAMP:20260420T165245
CREATED:20210406T233513Z
LAST-MODIFIED:20210930T231915Z
UID:10002576-1632816900-1633079700@npuc.org
SUMMARY:Creation Week of Prayer by Dr. Stan Hudson
DESCRIPTION:
URL:https://npuc.org/event/creation-week-of-prayer-by-dr-stan-hudson
LOCATION:Mountain View Christian School
CATEGORIES:Creation
END:VEVENT
BEGIN:VEVENT
DTSTART;TZID=America/Los_Angeles:20210928T101500
DTEND;TZID=America/Los_Angeles:20210930T111500
DTSTAMP:20260420T165245
CREATED:20210406T233513Z
LAST-MODIFIED:20210929T231852Z
UID:10002578-1632824100-1633000500@npuc.org
SUMMARY:Creation Week of Prayer by Dr. Stan Hudson
DESCRIPTION:
URL:https://npuc.org/event/creation-week-of-prayer-by-dr-stan-hudson-2
LOCATION:Cedarbrook Adventist Christian School
CATEGORIES:Creation
END:VEVENT
END:VCALENDAR