BEGIN:VCALENDAR
VERSION:2.0
PRODID:-//North Pacific Union Conference of Seventh-day Adventists - ECPv6.15.12.2//NONSGML v1.0//EN
CALSCALE:GREGORIAN
METHOD:PUBLISH
X-WR-CALNAME:North Pacific Union Conference of Seventh-day Adventists
X-ORIGINAL-URL:https://npuc.org
X-WR-CALDESC:Events for North Pacific Union Conference of Seventh-day Adventists
REFRESH-INTERVAL;VALUE=DURATION:PT1H
X-Robots-Tag:noindex
X-PUBLISHED-TTL:PT1H
BEGIN:VTIMEZONE
TZID:America/Los_Angeles
BEGIN:DAYLIGHT
TZOFFSETFROM:-0800
TZOFFSETTO:-0700
TZNAME:PDT
DTSTART:20220313T100000
END:DAYLIGHT
BEGIN:STANDARD
TZOFFSETFROM:-0700
TZOFFSETTO:-0800
TZNAME:PST
DTSTART:20221106T090000
END:STANDARD
BEGIN:DAYLIGHT
TZOFFSETFROM:-0800
TZOFFSETTO:-0700
TZNAME:PDT
DTSTART:20230312T100000
END:DAYLIGHT
BEGIN:STANDARD
TZOFFSETFROM:-0700
TZOFFSETTO:-0800
TZNAME:PST
DTSTART:20231105T090000
END:STANDARD
BEGIN:DAYLIGHT
TZOFFSETFROM:-0800
TZOFFSETTO:-0700
TZNAME:PDT
DTSTART:20240310T100000
END:DAYLIGHT
BEGIN:STANDARD
TZOFFSETFROM:-0700
TZOFFSETTO:-0800
TZNAME:PST
DTSTART:20241103T090000
END:STANDARD
END:VTIMEZONE
BEGIN:VEVENT
DTSTART;TZID=America/Los_Angeles:20230501T000000
DTEND;TZID=America/Los_Angeles:20230504T235959
DTSTAMP:20260419T171142
CREATED:20221009T000427Z
LAST-MODIFIED:20221009T000427Z
UID:10003271-1682899200-1683244799@npuc.org
SUMMARY:Creation Week of Prayer
DESCRIPTION:
URL:https://npuc.org/event/creation-week-of-prayer-107
LOCATION:Grays Harbor Adventist Christian School in Montesano\, WA
CATEGORIES:Creation
END:VEVENT
BEGIN:VEVENT
DTSTART;TZID=America/Los_Angeles:20230508T083000
DTEND;TZID=America/Los_Angeles:20230508T083000
DTSTAMP:20260419T171142
CREATED:20221009T020408Z
LAST-MODIFIED:20221009T020408Z
UID:10003757-1683534600-1683534600@npuc.org
SUMMARY:Walla Walla  University Board
DESCRIPTION:
URL:https://npuc.org/event/walla-walla-university-board-33
LOCATION:WWU Campus\, College Place WA
CATEGORIES:General
END:VEVENT
BEGIN:VEVENT
DTSTART;TZID=America/Los_Angeles:20230509T090000
DTEND;TZID=America/Los_Angeles:20230509T090000
DTSTAMP:20260419T171142
CREATED:20221009T020408Z
LAST-MODIFIED:20221009T020408Z
UID:10003758-1683622800-1683622800@npuc.org
SUMMARY:NPUC Presidents Council
DESCRIPTION:
URL:https://npuc.org/event/npuc-presidents-council-49
LOCATION:WWU Campus\, College Place WA
CATEGORIES:General
END:VEVENT
BEGIN:VEVENT
DTSTART;TZID=America/Los_Angeles:20230510T090000
DTEND;TZID=America/Los_Angeles:20230510T090000
DTSTAMP:20260419T171142
CREATED:20221009T020408Z
LAST-MODIFIED:20221009T020408Z
UID:10003759-1683709200-1683709200@npuc.org
SUMMARY:NPUC Executive Committee/Association Board
DESCRIPTION:
URL:https://npuc.org/event/npuc-executive-committee-association-board-50
LOCATION:WWU Campus\, College Place WA
CATEGORIES:General
END:VEVENT
BEGIN:VEVENT
DTSTART;TZID=America/Los_Angeles:20230511T090000
DTEND;TZID=America/Los_Angeles:20230511T090000
DTSTAMP:20260419T171142
CREATED:20221009T020409Z
LAST-MODIFIED:20221009T020409Z
UID:10003760-1683795600-1683795600@npuc.org
SUMMARY:Native Ministries NW Executive Committee
DESCRIPTION:
URL:https://npuc.org/event/native-ministries-nw-executive-committee-13
LOCATION:WWU Campus\, College Place WA
CATEGORIES:General
END:VEVENT
BEGIN:VEVENT
DTSTART;TZID=America/Los_Angeles:20230514T000000
DTEND;TZID=America/Los_Angeles:20230514T235959
DTSTAMP:20260419T171142
CREATED:20221009T020409Z
LAST-MODIFIED:20221009T020409Z
UID:10003761-1684022400-1684108799@npuc.org
SUMMARY:Mother's Day
DESCRIPTION:
URL:https://npuc.org/event/mothers-day-13
LOCATION:Maryland
CATEGORIES:General
END:VEVENT
BEGIN:VEVENT
DTSTART;TZID=America/Los_Angeles:20230516T000000
DTEND;TZID=America/Los_Angeles:20230519T235959
DTSTAMP:20260419T171142
CREATED:20221009T000428Z
LAST-MODIFIED:20221009T000428Z
UID:10003273-1684195200-1684540799@npuc.org
SUMMARY:Creation Week of Prayer
DESCRIPTION:
URL:https://npuc.org/event/creation-week-of-prayer-108
LOCATION:Highland View Christian School in Butte\, MT
CATEGORIES:Creation
END:VEVENT
BEGIN:VEVENT
DTSTART;TZID=America/Los_Angeles:20230516T000000
DTEND;TZID=America/Los_Angeles:20230519T235959
DTSTAMP:20260419T171142
CREATED:20221009T000428Z
LAST-MODIFIED:20221009T000428Z
UID:10003275-1684195200-1684540799@npuc.org
SUMMARY:Creation Week of Prayer
DESCRIPTION:
URL:https://npuc.org/event/creation-week-of-prayer-109
LOCATION:Mt. Ellis Elementary School in Bozeman\, MT
CATEGORIES:Creation
END:VEVENT
BEGIN:VEVENT
DTSTART;TZID=America/Los_Angeles:20230522T000000
DTEND;TZID=America/Los_Angeles:20230522T235959
DTSTAMP:20260419T171142
CREATED:20221009T020409Z
LAST-MODIFIED:20221009T020409Z
UID:10003762-1684713600-1684799999@npuc.org
SUMMARY:Memorial Day
DESCRIPTION:
URL:https://npuc.org/event/memorial-day-14
LOCATION:NPUC Office Closed\, North 20th Street 5709\, Ridgefield\, Washington\, 98642\, United States
CATEGORIES:General
GEO:45.829254;-122.689042
X-APPLE-STRUCTURED-LOCATION;VALUE=URI;X-ADDRESS=NPUC Office Closed North 20th Street 5709 Ridgefield Washington 98642 United States;X-APPLE-RADIUS=500;X-TITLE=North 20th Street 5709:geo:-122.689042,45.829254
END:VEVENT
END:VCALENDAR