BEGIN:VCALENDAR
VERSION:2.0
PRODID:-//North Pacific Union Conference of Seventh-day Adventists - ECPv6.15.12.2//NONSGML v1.0//EN
CALSCALE:GREGORIAN
METHOD:PUBLISH
X-WR-CALNAME:North Pacific Union Conference of Seventh-day Adventists
X-ORIGINAL-URL:https://npuc.org
X-WR-CALDESC:Events for North Pacific Union Conference of Seventh-day Adventists
REFRESH-INTERVAL;VALUE=DURATION:PT1H
X-Robots-Tag:noindex
X-PUBLISHED-TTL:PT1H
BEGIN:VTIMEZONE
TZID:America/Los_Angeles
BEGIN:DAYLIGHT
TZOFFSETFROM:-0800
TZOFFSETTO:-0700
TZNAME:PDT
DTSTART:20220313T100000
END:DAYLIGHT
BEGIN:STANDARD
TZOFFSETFROM:-0700
TZOFFSETTO:-0800
TZNAME:PST
DTSTART:20221106T090000
END:STANDARD
BEGIN:DAYLIGHT
TZOFFSETFROM:-0800
TZOFFSETTO:-0700
TZNAME:PDT
DTSTART:20230312T100000
END:DAYLIGHT
BEGIN:STANDARD
TZOFFSETFROM:-0700
TZOFFSETTO:-0800
TZNAME:PST
DTSTART:20231105T090000
END:STANDARD
BEGIN:DAYLIGHT
TZOFFSETFROM:-0800
TZOFFSETTO:-0700
TZNAME:PDT
DTSTART:20240310T100000
END:DAYLIGHT
BEGIN:STANDARD
TZOFFSETFROM:-0700
TZOFFSETTO:-0800
TZNAME:PST
DTSTART:20241103T090000
END:STANDARD
END:VTIMEZONE
BEGIN:VTIMEZONE
TZID:America/Denver
BEGIN:DAYLIGHT
TZOFFSETFROM:-0700
TZOFFSETTO:-0600
TZNAME:MDT
DTSTART:20220313T090000
END:DAYLIGHT
BEGIN:STANDARD
TZOFFSETFROM:-0600
TZOFFSETTO:-0700
TZNAME:MST
DTSTART:20221106T080000
END:STANDARD
BEGIN:DAYLIGHT
TZOFFSETFROM:-0700
TZOFFSETTO:-0600
TZNAME:MDT
DTSTART:20230312T090000
END:DAYLIGHT
BEGIN:STANDARD
TZOFFSETFROM:-0600
TZOFFSETTO:-0700
TZNAME:MST
DTSTART:20231105T080000
END:STANDARD
BEGIN:DAYLIGHT
TZOFFSETFROM:-0700
TZOFFSETTO:-0600
TZNAME:MDT
DTSTART:20240310T090000
END:DAYLIGHT
BEGIN:STANDARD
TZOFFSETFROM:-0600
TZOFFSETTO:-0700
TZNAME:MST
DTSTART:20241103T080000
END:STANDARD
END:VTIMEZONE
BEGIN:VEVENT
DTSTART;TZID=America/Los_Angeles:20230810T000000
DTEND;TZID=America/Los_Angeles:20230813T235959
DTSTAMP:20260419T061102
CREATED:20221009T020410Z
LAST-MODIFIED:20221009T020410Z
UID:10003305-1691625600-1691971199@npuc.org
SUMMARY:Regional West Coast Youth Conference
DESCRIPTION:
URL:https://npuc.org/event/regional-west-coast-youth-conference-11
LOCATION:Phoenix AZ
CATEGORIES:General
END:VEVENT
BEGIN:VEVENT
DTSTART;TZID=America/Los_Angeles:20230815T090000
DTEND;TZID=America/Los_Angeles:20230815T090000
DTSTAMP:20260419T061102
CREATED:20221009T020410Z
LAST-MODIFIED:20221009T020410Z
UID:10003307-1692090000-1692090000@npuc.org
SUMMARY:NPUC Presidents  Council
DESCRIPTION:
URL:https://npuc.org/event/npuc-presidents-council-50
LOCATION:Zoom
CATEGORIES:General
END:VEVENT
BEGIN:VEVENT
DTSTART;TZID=America/Los_Angeles:20230815T150000
DTEND;TZID=America/Los_Angeles:20230815T150000
DTSTAMP:20260419T061102
CREATED:20221009T020411Z
LAST-MODIFIED:20221009T020411Z
UID:10003308-1692111600-1692111600@npuc.org
SUMMARY:WWU Board Executive Committee
DESCRIPTION:
URL:https://npuc.org/event/wwu-board-executive-committee-13
LOCATION:Maryland
CATEGORIES:General
END:VEVENT
BEGIN:VEVENT
DTSTART;TZID=America/Denver:20230820T093000
DTEND;TZID=America/Denver:20230820T160000
DTSTAMP:20260419T061102
CREATED:20230815T210411Z
LAST-MODIFIED:20230820T003309Z
UID:10003773-1692523800-1692547200@npuc.org
SUMMARY:Idaho Conference Executive Committee
DESCRIPTION:
URL:https://npuc.org/event/idaho-conference-executive-committee-2
LOCATION:TBD
CATEGORIES:General
END:VEVENT
BEGIN:VEVENT
DTSTART;TZID=America/Los_Angeles:20230821T000000
DTEND;TZID=America/Los_Angeles:20230821T235959
DTSTAMP:20260419T061102
CREATED:20230818T001330Z
LAST-MODIFIED:20230820T003309Z
UID:10003841-1692576000-1692662399@npuc.org
SUMMARY:test1
DESCRIPTION:
URL:https://npuc.org/event/test1
LOCATION:Maryland
CATEGORIES:General
END:VEVENT
BEGIN:VEVENT
DTSTART;TZID=America/Los_Angeles:20230821T000000
DTEND;TZID=America/Los_Angeles:20230821T235959
DTSTAMP:20260419T061102
CREATED:20230818T001330Z
LAST-MODIFIED:20230820T003309Z
UID:10003842-1692576000-1692662399@npuc.org
SUMMARY:test3
DESCRIPTION:
URL:https://npuc.org/event/test3
LOCATION:Maryland
CATEGORIES:General
END:VEVENT
BEGIN:VEVENT
DTSTART;TZID=America/Los_Angeles:20230827T000000
DTEND;TZID=America/Los_Angeles:20230827T235959
DTSTAMP:20260419T061102
CREATED:20230815T210412Z
LAST-MODIFIED:20230827T161311Z
UID:10003774-1693094400-1693180799@npuc.org
SUMMARY:Idaho Conference Nominating Committee
DESCRIPTION:
URL:https://npuc.org/event/idaho-conference-nominating-committee
LOCATION:Meridian Seventh-day Adventist Church (1855 N Black Cat Rd\, Meridian\, ID  83646)
CATEGORIES:General
END:VEVENT
BEGIN:VEVENT
DTSTART;TZID=America/Los_Angeles:20230828T000000
DTEND;TZID=America/Los_Angeles:20230831T235959
DTSTAMP:20260419T061102
CREATED:20230815T210413Z
LAST-MODIFIED:20230831T161314Z
UID:10003775-1693180800-1693526399@npuc.org
SUMMARY:NAD - Presidents of Large Conferences Retreat
DESCRIPTION:
URL:https://npuc.org/event/nad-presidents-of-large-conferences-retreat
LOCATION:TBD\, GA
CATEGORIES:General
END:VEVENT
BEGIN:VEVENT
DTSTART;TZID=America/Los_Angeles:20230828T000000
DTEND;TZID=America/Los_Angeles:20230831T235959
DTSTAMP:20260419T061103
CREATED:20230815T210414Z
LAST-MODIFIED:20230831T161314Z
UID:10003776-1693180800-1693526399@npuc.org
SUMMARY:NAD Annual Hispanic Advisory
DESCRIPTION:
URL:https://npuc.org/event/nad-annual-hispanic-advisory
LOCATION:Columbia\, MD\, Columbia\, Maryland\, United States
CATEGORIES:General
GEO:39.2037144;-76.8610462
END:VEVENT
END:VCALENDAR