BEGIN:VCALENDAR
VERSION:2.0
PRODID:-//North Pacific Union Conference of Seventh-day Adventists - ECPv6.15.12.2//NONSGML v1.0//EN
CALSCALE:GREGORIAN
METHOD:PUBLISH
X-ORIGINAL-URL:https://npuc.org
X-WR-CALDESC:Events for North Pacific Union Conference of Seventh-day Adventists
REFRESH-INTERVAL;VALUE=DURATION:PT1H
X-Robots-Tag:noindex
X-PUBLISHED-TTL:PT1H
BEGIN:VTIMEZONE
TZID:America/Los_Angeles
BEGIN:DAYLIGHT
TZOFFSETFROM:-0800
TZOFFSETTO:-0700
TZNAME:PDT
DTSTART:20230312T100000
END:DAYLIGHT
BEGIN:STANDARD
TZOFFSETFROM:-0700
TZOFFSETTO:-0800
TZNAME:PST
DTSTART:20231105T090000
END:STANDARD
BEGIN:DAYLIGHT
TZOFFSETFROM:-0800
TZOFFSETTO:-0700
TZNAME:PDT
DTSTART:20240310T100000
END:DAYLIGHT
BEGIN:STANDARD
TZOFFSETFROM:-0700
TZOFFSETTO:-0800
TZNAME:PST
DTSTART:20241103T090000
END:STANDARD
BEGIN:DAYLIGHT
TZOFFSETFROM:-0800
TZOFFSETTO:-0700
TZNAME:PDT
DTSTART:20250309T100000
END:DAYLIGHT
BEGIN:STANDARD
TZOFFSETFROM:-0700
TZOFFSETTO:-0800
TZNAME:PST
DTSTART:20251102T090000
END:STANDARD
END:VTIMEZONE
BEGIN:VEVENT
DTSTART;TZID=America/Los_Angeles:20240304T083000
DTEND;TZID=America/Los_Angeles:20240304T083000
DTSTAMP:20260419T063305
CREATED:20230815T210429Z
LAST-MODIFIED:20240303T211308Z
UID:10003800-1709541000-1709541000@npuc.org
SUMMARY:Walla Walla University Board
DESCRIPTION:
URL:https://npuc.org/event/walla-walla-university-board-35
LOCATION:WWU Campus\, Portland OR
CATEGORIES:General
END:VEVENT
BEGIN:VEVENT
DTSTART;TZID=America/Los_Angeles:20240305T090000
DTEND;TZID=America/Los_Angeles:20240305T090000
DTSTAMP:20260419T063305
CREATED:20230815T210429Z
LAST-MODIFIED:20240304T211309Z
UID:10003801-1709629200-1709629200@npuc.org
SUMMARY:NPUC Presidents Council
DESCRIPTION:
URL:https://npuc.org/event/npuc-presidents-council-52
LOCATION:NPUC Office\, Ridgefield WA
CATEGORIES:General
END:VEVENT
BEGIN:VEVENT
DTSTART;TZID=America/Los_Angeles:20240306T090000
DTEND;TZID=America/Los_Angeles:20240306T090000
DTSTAMP:20260419T063305
CREATED:20230815T210431Z
LAST-MODIFIED:20240304T211309Z
UID:10003802-1709715600-1709715600@npuc.org
SUMMARY:NPUC Executive Committee/Association Board
DESCRIPTION:
URL:https://npuc.org/event/npuc-executive-committee-association-board-53
LOCATION:NPUC Office\, Ridgefield WA
CATEGORIES:General
END:VEVENT
BEGIN:VEVENT
DTSTART;TZID=America/Los_Angeles:20240307T090000
DTEND;TZID=America/Los_Angeles:20240307T090000
DTSTAMP:20260419T063305
CREATED:20230815T210431Z
LAST-MODIFIED:20240306T211309Z
UID:10003803-1709802000-1709802000@npuc.org
SUMMARY:NPUC Board of Education
DESCRIPTION:
URL:https://npuc.org/event/npuc-board-of-education-20
LOCATION:NPUC Office\, Ridgefield WA
CATEGORIES:General
END:VEVENT
BEGIN:VEVENT
DTSTART;TZID=America/Los_Angeles:20240309T000000
DTEND;TZID=America/Los_Angeles:20240309T235959
DTSTAMP:20260419T063305
CREATED:20231214T191333Z
LAST-MODIFIED:20240308T211309Z
UID:10003910-1709942400-1710028799@npuc.org
SUMMARY:Social Media Evangelism Site Visit
DESCRIPTION:
URL:https://npuc.org/event/social-media-evangelism-site-visit
LOCATION:Central California Conference
CATEGORIES:General
END:VEVENT
BEGIN:VEVENT
DTSTART;TZID=America/Los_Angeles:20240313T000000
DTEND;TZID=America/Los_Angeles:20240313T235959
DTSTAMP:20260419T063305
CREATED:20230815T210433Z
LAST-MODIFIED:20240313T212846Z
UID:10003804-1710288000-1710374399@npuc.org
SUMMARY:NextGen Pastor Advisory (NAD)
DESCRIPTION:
URL:https://npuc.org/event/nextgen-pastor-advisory-nad
LOCATION:virtual
CATEGORIES:General
END:VEVENT
BEGIN:VEVENT
DTSTART;TZID=America/Los_Angeles:20240316T000000
DTEND;TZID=America/Los_Angeles:20240316T235959
DTSTAMP:20260419T063305
CREATED:20231127T185820Z
LAST-MODIFIED:20240316T212822Z
UID:10003871-1710547200-1710633599@npuc.org
SUMMARY:Global Youth Day
DESCRIPTION:
URL:https://npuc.org/event/global-youth-day
LOCATION:Maryland
CATEGORIES:General
END:VEVENT
BEGIN:VEVENT
DTSTART;TZID=America/Los_Angeles:20240318T090000
DTEND;TZID=America/Los_Angeles:20240318T150000
DTSTAMP:20260419T063305
CREATED:20230815T210433Z
LAST-MODIFIED:20240318T212808Z
UID:10003805-1710752400-1710774000@npuc.org
SUMMARY:Montana Conference Office BoD
DESCRIPTION:
URL:https://npuc.org/event/montana-conference-office-bod
LOCATION:Hybrid
CATEGORIES:General
END:VEVENT
BEGIN:VEVENT
DTSTART;TZID=America/Los_Angeles:20240319T093000
DTEND;TZID=America/Los_Angeles:20240319T163000
DTSTAMP:20260419T063305
CREATED:20231130T185822Z
LAST-MODIFIED:20240319T212818Z
UID:10003892-1710840600-1710865800@npuc.org
SUMMARY:Washington Conference Executive Committee
DESCRIPTION:
URL:https://npuc.org/event/washington-conference-executive-committee-28
LOCATION:Conference
CATEGORIES:General
END:VEVENT
BEGIN:VEVENT
DTSTART;TZID=America/Los_Angeles:20240320T000000
DTEND;TZID=America/Los_Angeles:20240320T235959
DTSTAMP:20260419T063305
CREATED:20230815T210436Z
LAST-MODIFIED:20240320T212808Z
UID:10003807-1710892800-1710979199@npuc.org
SUMMARY:Pacific Press Publishing Finance Committee
DESCRIPTION:
URL:https://npuc.org/event/pacific-press-publishing-finance-committee
LOCATION:Nampa\, ID
CATEGORIES:General
END:VEVENT
BEGIN:VEVENT
DTSTART;TZID=America/Los_Angeles:20240320T000000
DTEND;TZID=America/Los_Angeles:20240320T235959
DTSTAMP:20260419T063305
CREATED:20231127T185821Z
LAST-MODIFIED:20240320T212808Z
UID:10003872-1710892800-1710979199@npuc.org
SUMMARY:NAD Office of Human Relations Advisory
DESCRIPTION:
URL:https://npuc.org/event/nad-office-of-human-relations-advisory
LOCATION:Columbia\, MD\, Columbia\, Maryland\, United States
CATEGORIES:General
GEO:39.2037144;-76.8610462
END:VEVENT
BEGIN:VEVENT
DTSTART;TZID=America/Los_Angeles:20240321T000000
DTEND;TZID=America/Los_Angeles:20240321T235959
DTSTAMP:20260419T063305
CREATED:20230815T210434Z
LAST-MODIFIED:20240321T212813Z
UID:10003806-1710979200-1711065599@npuc.org
SUMMARY:Pacific Press Publishing Association Board
DESCRIPTION:
URL:https://npuc.org/event/pacific-press-publishing-association-board
LOCATION:Nampa\, ID
CATEGORIES:General
END:VEVENT
BEGIN:VEVENT
DTSTART;TZID=America/Los_Angeles:20240321T000000
DTEND;TZID=America/Los_Angeles:20240331T235959
DTSTAMP:20260419T063305
CREATED:20230815T210437Z
LAST-MODIFIED:20240331T215812Z
UID:10003809-1710979200-1711929599@npuc.org
SUMMARY:Walla Walla University Spring Break
DESCRIPTION:
URL:https://npuc.org/event/walla-walla-university-spring-break-12
LOCATION:Maryland
CATEGORIES:General
END:VEVENT
BEGIN:VEVENT
DTSTART;TZID=America/Los_Angeles:20240324T000000
DTEND;TZID=America/Los_Angeles:20240324T235959
DTSTAMP:20260419T063305
CREATED:20230815T210437Z
LAST-MODIFIED:20240324T213008Z
UID:10003808-1711238400-1711324799@npuc.org
SUMMARY:Washington Conference Organizing Committee
DESCRIPTION:
URL:https://npuc.org/event/washington-conference-organizing-committee
LOCATION:Maryland
CATEGORIES:General
END:VEVENT
BEGIN:VEVENT
DTSTART;TZID=America/Los_Angeles:20240326T000000
DTEND;TZID=America/Los_Angeles:20240326T235959
DTSTAMP:20260419T063305
CREATED:20231127T185823Z
LAST-MODIFIED:20240326T212820Z
UID:10003873-1711411200-1711497599@npuc.org
SUMMARY:NAD Risk Management Committee
DESCRIPTION:
URL:https://npuc.org/event/nad-risk-management-committee-2
LOCATION:Columbia\, MD\, Columbia\, Maryland\, United States
CATEGORIES:General
GEO:39.2037144;-76.8610462
END:VEVENT
END:VCALENDAR