BEGIN:VCALENDAR
VERSION:2.0
PRODID:-//North Pacific Union Conference of Seventh-day Adventists - ECPv6.15.12.2//NONSGML v1.0//EN
CALSCALE:GREGORIAN
METHOD:PUBLISH
X-WR-CALNAME:North Pacific Union Conference of Seventh-day Adventists
X-ORIGINAL-URL:https://npuc.org
X-WR-CALDESC:Events for North Pacific Union Conference of Seventh-day Adventists
REFRESH-INTERVAL;VALUE=DURATION:PT1H
X-Robots-Tag:noindex
X-PUBLISHED-TTL:PT1H
BEGIN:VTIMEZONE
TZID:America/Los_Angeles
BEGIN:DAYLIGHT
TZOFFSETFROM:-0800
TZOFFSETTO:-0700
TZNAME:PDT
DTSTART:20230312T100000
END:DAYLIGHT
BEGIN:STANDARD
TZOFFSETFROM:-0700
TZOFFSETTO:-0800
TZNAME:PST
DTSTART:20231105T090000
END:STANDARD
BEGIN:DAYLIGHT
TZOFFSETFROM:-0800
TZOFFSETTO:-0700
TZNAME:PDT
DTSTART:20240310T100000
END:DAYLIGHT
BEGIN:STANDARD
TZOFFSETFROM:-0700
TZOFFSETTO:-0800
TZNAME:PST
DTSTART:20241103T090000
END:STANDARD
BEGIN:DAYLIGHT
TZOFFSETFROM:-0800
TZOFFSETTO:-0700
TZNAME:PDT
DTSTART:20250309T100000
END:DAYLIGHT
BEGIN:STANDARD
TZOFFSETFROM:-0700
TZOFFSETTO:-0800
TZNAME:PST
DTSTART:20251102T090000
END:STANDARD
END:VTIMEZONE
BEGIN:VEVENT
DTSTART;TZID=America/Los_Angeles:20241020T093000
DTEND;TZID=America/Los_Angeles:20241020T160000
DTSTAMP:20260419T233738
CREATED:20240911T184341Z
LAST-MODIFIED:20241020T200122Z
UID:10003982-1729416600-1729440000@npuc.org
SUMMARY:Alaska Conference Executive Committee
DESCRIPTION:
URL:https://npuc.org/event/alaska-conference-executive-committee-6
LOCATION:Maryland
CATEGORIES:General
END:VEVENT
BEGIN:VEVENT
DTSTART;TZID=America/Los_Angeles:20241029T000000
DTEND;TZID=America/Los_Angeles:20241029T235959
DTSTAMP:20260419T233738
CREATED:20240821T181332Z
LAST-MODIFIED:20241029T201433Z
UID:10003971-1730160000-1730246399@npuc.org
SUMMARY:NAD Treasurer's Council
DESCRIPTION:
URL:https://npuc.org/event/nad-treasurers-council
LOCATION:Columbia\, MD\, Columbia\, Maryland\, United States
CATEGORIES:General
GEO:39.2037144;-76.8610462
END:VEVENT
BEGIN:VEVENT
DTSTART;TZID=America/Los_Angeles:20241029T000000
DTEND;TZID=America/Los_Angeles:20241029T235959
DTSTAMP:20260419T233738
CREATED:20240821T181332Z
LAST-MODIFIED:20241029T201436Z
UID:10003972-1730160000-1730246399@npuc.org
SUMMARY:NAD Secretaries Council
DESCRIPTION:
URL:https://npuc.org/event/nad-secretaries-council-4
LOCATION:Columbia\, MD\, Columbia\, Maryland\, United States
CATEGORIES:General
GEO:39.2037144;-76.8610462
END:VEVENT
BEGIN:VEVENT
DTSTART;TZID=America/Los_Angeles:20241029T000000
DTEND;TZID=America/Los_Angeles:20241029T235959
DTSTAMP:20260419T233738
CREATED:20240821T181332Z
LAST-MODIFIED:20241029T201436Z
UID:10003973-1730160000-1730246399@npuc.org
SUMMARY:NAD President's Council
DESCRIPTION:
URL:https://npuc.org/event/nad-presidents-council
LOCATION:Columbia\, MD\, Columbia\, Maryland\, United States
CATEGORIES:General
GEO:39.2037144;-76.8610462
END:VEVENT
BEGIN:VEVENT
DTSTART;TZID=America/Los_Angeles:20241030T000000
DTEND;TZID=America/Los_Angeles:20241030T235959
DTSTAMP:20260419T233738
CREATED:20240821T181327Z
LAST-MODIFIED:20241030T201604Z
UID:10003970-1730246400-1730332799@npuc.org
SUMMARY:NAD Leadership Summit
DESCRIPTION:
URL:https://npuc.org/event/nad-leadership-summit
LOCATION:Columbia\, MD\, Columbia\, Maryland\, United States
CATEGORIES:General
GEO:39.2037144;-76.8610462
END:VEVENT
BEGIN:VEVENT
DTSTART;TZID=America/Los_Angeles:20241031T000000
DTEND;TZID=America/Los_Angeles:20241031T235959
DTSTAMP:20260419T233738
CREATED:20240821T181333Z
LAST-MODIFIED:20241031T202949Z
UID:10003974-1730332800-1730419199@npuc.org
SUMMARY:NADOUP
DESCRIPTION:
URL:https://npuc.org/event/nadoup-9
LOCATION:Columbia\, MD\, Columbia\, Maryland\, United States
CATEGORIES:General
GEO:39.2037144;-76.8610462
END:VEVENT
END:VCALENDAR