BEGIN:VCALENDAR
VERSION:2.0
PRODID:-//North Pacific Union Conference of Seventh-day Adventists - ECPv6.15.12.2//NONSGML v1.0//EN
CALSCALE:GREGORIAN
METHOD:PUBLISH
X-ORIGINAL-URL:https://npuc.org
X-WR-CALDESC:Events for North Pacific Union Conference of Seventh-day Adventists
REFRESH-INTERVAL;VALUE=DURATION:PT1H
X-Robots-Tag:noindex
X-PUBLISHED-TTL:PT1H
BEGIN:VTIMEZONE
TZID:America/Los_Angeles
BEGIN:DAYLIGHT
TZOFFSETFROM:-0800
TZOFFSETTO:-0700
TZNAME:PDT
DTSTART:20250309T100000
END:DAYLIGHT
BEGIN:STANDARD
TZOFFSETFROM:-0700
TZOFFSETTO:-0800
TZNAME:PST
DTSTART:20251102T090000
END:STANDARD
BEGIN:DAYLIGHT
TZOFFSETFROM:-0800
TZOFFSETTO:-0700
TZNAME:PDT
DTSTART:20260308T100000
END:DAYLIGHT
BEGIN:STANDARD
TZOFFSETFROM:-0700
TZOFFSETTO:-0800
TZNAME:PST
DTSTART:20261101T090000
END:STANDARD
BEGIN:DAYLIGHT
TZOFFSETFROM:-0800
TZOFFSETTO:-0700
TZNAME:PDT
DTSTART:20270314T100000
END:DAYLIGHT
BEGIN:STANDARD
TZOFFSETFROM:-0700
TZOFFSETTO:-0800
TZNAME:PST
DTSTART:20271107T090000
END:STANDARD
END:VTIMEZONE
BEGIN:VEVENT
DTSTART;TZID=America/Los_Angeles:20260702T000000
DTEND;TZID=America/Los_Angeles:20260702T235959
DTSTAMP:20260419T110606
CREATED:20251001T163036Z
LAST-MODIFIED:20260418T192424Z
UID:10004094-1782950400-1783036799@npuc.org
SUMMARY:Office Closed for July 4 Holiday
DESCRIPTION:
URL:https://npuc.org/event/office-closed-for-july-4-holiday
LOCATION:Maryland
CATEGORIES:General
END:VEVENT
BEGIN:VEVENT
DTSTART;TZID=America/Los_Angeles:20260709T100000
DTEND;TZID=America/Los_Angeles:20260709T160000
DTSTAMP:20260419T110606
CREATED:20251001T163037Z
LAST-MODIFIED:20260418T192425Z
UID:10004095-1783591200-1783612800@npuc.org
SUMMARY:NPUC Office Picnic
DESCRIPTION:
URL:https://npuc.org/event/npuc-office-picnic
LOCATION:TBD
CATEGORIES:General
END:VEVENT
BEGIN:VEVENT
DTSTART;TZID=America/Los_Angeles:20260716T100000
DTEND;TZID=America/Los_Angeles:20260716T160000
DTSTAMP:20260419T110606
CREATED:20260105T203007Z
LAST-MODIFIED:20260418T192425Z
UID:10004134-1784196000-1784217600@npuc.org
SUMMARY:Upper Columbia Conference Executive Committee
DESCRIPTION:
URL:https://npuc.org/event/upper-columbia-conference-executive-committee-15
LOCATION:Upper Columbia Conference of Seventh-day Adventists (3715 S Grove Rd\, Spokane\, WA  99224)\, South Grove Road 3715\, Spokane\, Washington\, 99224\, United States
CATEGORIES:General
GEO:47.62036;-117.4990724
X-APPLE-STRUCTURED-LOCATION;VALUE=URI;X-ADDRESS=Upper Columbia Conference of Seventh-day Adventists (3715 S Grove Rd Spokane WA  99224) South Grove Road 3715 Spokane Washington 99224 United States;X-APPLE-RADIUS=500;X-TITLE=South Grove Road 3715:geo:-117.4990724,47.62036
END:VEVENT
BEGIN:VEVENT
DTSTART;TZID=America/Los_Angeles:20260719T000000
DTEND;TZID=America/Los_Angeles:20260719T235959
DTSTAMP:20260419T110606
CREATED:20250720T191621Z
LAST-MODIFIED:20260418T192425Z
UID:10004083-1784419200-1784505599@npuc.org
SUMMARY:Montana Conference Constituency Session
DESCRIPTION:
URL:https://npuc.org/event/montana-conference-constituency-session
LOCATION:Maryland
CATEGORIES:General
END:VEVENT
BEGIN:VEVENT
DTSTART;TZID=America/Los_Angeles:20260729T000000
DTEND;TZID=America/Los_Angeles:20260801T235959
DTSTAMP:20260419T110606
CREATED:20250729T193001Z
LAST-MODIFIED:20260418T192428Z
UID:10004084-1785283200-1785628799@npuc.org
SUMMARY:ASI Convention
DESCRIPTION:
URL:https://npuc.org/event/asi-convention-3
LOCATION:Phoenix\, AZ\, Phoenix\, Arizona\, United States
CATEGORIES:General
GEO:33.4482948;-112.0725488
END:VEVENT
END:VCALENDAR