BEGIN:VCALENDAR
VERSION:2.0
PRODID:-//North Pacific Union Conference of Seventh-day Adventists - ECPv6.15.12.2//NONSGML v1.0//EN
CALSCALE:GREGORIAN
METHOD:PUBLISH
X-WR-CALNAME:North Pacific Union Conference of Seventh-day Adventists
X-ORIGINAL-URL:https://npuc.org
X-WR-CALDESC:Events for North Pacific Union Conference of Seventh-day Adventists
REFRESH-INTERVAL;VALUE=DURATION:PT1H
X-Robots-Tag:noindex
X-PUBLISHED-TTL:PT1H
BEGIN:VTIMEZONE
TZID:America/Los_Angeles
BEGIN:DAYLIGHT
TZOFFSETFROM:-0800
TZOFFSETTO:-0700
TZNAME:PDT
DTSTART:20250309T100000
END:DAYLIGHT
BEGIN:STANDARD
TZOFFSETFROM:-0700
TZOFFSETTO:-0800
TZNAME:PST
DTSTART:20251102T090000
END:STANDARD
BEGIN:DAYLIGHT
TZOFFSETFROM:-0800
TZOFFSETTO:-0700
TZNAME:PDT
DTSTART:20260308T100000
END:DAYLIGHT
BEGIN:STANDARD
TZOFFSETFROM:-0700
TZOFFSETTO:-0800
TZNAME:PST
DTSTART:20261101T090000
END:STANDARD
BEGIN:DAYLIGHT
TZOFFSETFROM:-0800
TZOFFSETTO:-0700
TZNAME:PDT
DTSTART:20270314T100000
END:DAYLIGHT
BEGIN:STANDARD
TZOFFSETFROM:-0700
TZOFFSETTO:-0800
TZNAME:PST
DTSTART:20271107T090000
END:STANDARD
END:VTIMEZONE
BEGIN:VEVENT
DTSTART;TZID=America/Los_Angeles:20261004T000000
DTEND;TZID=America/Los_Angeles:20261004T235959
DTSTAMP:20260421T061308
CREATED:20260105T203018Z
LAST-MODIFIED:20260420T194828Z
UID:10004141-1791072000-1791158399@npuc.org
SUMMARY:
DESCRIPTION:
URL:https://npuc.org/event/202003
LOCATION:Maryland
CATEGORIES:General
END:VEVENT
BEGIN:VEVENT
DTSTART;TZID=America/Los_Angeles:20261008T000000
DTEND;TZID=America/Los_Angeles:20261014T235959
DTSTAMP:20260421T061308
CREATED:20251008T163153Z
LAST-MODIFIED:20260420T194830Z
UID:10004098-1791417600-1792022399@npuc.org
SUMMARY:GC Annual Council
DESCRIPTION:
URL:https://npuc.org/event/gc-annual-council-14
LOCATION:Silver Spring\, MD\, Silver Spring\, Maryland\, United States
CATEGORIES:General
GEO:38.9960671;-77.0280731
END:VEVENT
BEGIN:VEVENT
DTSTART;TZID=America/Los_Angeles:20261011T093000
DTEND;TZID=America/Los_Angeles:20261011T150000
DTSTAMP:20260421T061308
CREATED:20260105T203019Z
LAST-MODIFIED:20260420T194828Z
UID:10004142-1791711000-1791730800@npuc.org
SUMMARY:Idaho Conference Executive Committee
DESCRIPTION:
URL:https://npuc.org/event/idaho-conference-executive-committee-17
LOCATION:Maryland
CATEGORIES:General
END:VEVENT
BEGIN:VEVENT
DTSTART;TZID=America/Los_Angeles:20261015T000000
DTEND;TZID=America/Los_Angeles:20261017T235959
DTSTAMP:20260421T061308
CREATED:20251015T164624Z
LAST-MODIFIED:20260420T194830Z
UID:10004099-1792022400-1792281599@npuc.org
SUMMARY:Society of Adventist Communicators
DESCRIPTION:
URL:https://npuc.org/event/society-of-adventist-communicators-4
LOCATION:Orlando (Orlando\, Florida)\, Orlando\, Florida\, United States
CATEGORIES:General
GEO:28.5383832;-81.3789269
END:VEVENT
BEGIN:VEVENT
DTSTART;TZID=America/Los_Angeles:20261027T093000
DTEND;TZID=America/Los_Angeles:20261027T150000
DTSTAMP:20260421T061308
CREATED:20260105T203022Z
LAST-MODIFIED:20260420T194831Z
UID:10004143-1793093400-1793113200@npuc.org
SUMMARY:Washington Conference Executive Committee
DESCRIPTION:
URL:https://npuc.org/event/washington-conference-executive-committee-43
LOCATION:Washington Conference of Seventh-day Adventists (32229 Weyerhaeuser Way S\, Federal Way\, WA  98001)\, Weyerhaeuser Way South 32229\, Federal Way\, Washington\, 98001\, United States
CATEGORIES:General
GEO:47.3124972;-122.2897461
X-APPLE-STRUCTURED-LOCATION;VALUE=URI;X-ADDRESS=Washington Conference of Seventh-day Adventists (32229 Weyerhaeuser Way S Federal Way WA  98001) Weyerhaeuser Way South 32229 Federal Way Washington 98001 United States;X-APPLE-RADIUS=500;X-TITLE=Weyerhaeuser Way South 32229:geo:-122.2897461,47.3124972
END:VEVENT
BEGIN:VEVENT
DTSTART;TZID=America/Los_Angeles:20261028T000000
DTEND;TZID=America/Los_Angeles:20261028T235959
DTSTAMP:20260421T061308
CREATED:20260105T203023Z
LAST-MODIFIED:20260420T194831Z
UID:10004144-1793145600-1793231999@npuc.org
SUMMARY:NADOUP
DESCRIPTION:
URL:https://npuc.org/event/nadoup-10
LOCATION:Columbia\, MD\, Columbia\, Maryland\, United States
CATEGORIES:General
GEO:39.2037144;-76.8610462
END:VEVENT
BEGIN:VEVENT
DTSTART;TZID=America/Los_Angeles:20261029T000000
DTEND;TZID=America/Los_Angeles:20261103T235959
DTSTAMP:20260421T061308
CREATED:20251029T171921Z
LAST-MODIFIED:20260420T194832Z
UID:10004100-1793232000-1793750399@npuc.org
SUMMARY:NAD Year-End Meeting
DESCRIPTION:
URL:https://npuc.org/event/nad-year-end-meeting-4
LOCATION:Columbia\, MD\, Columbia\, Maryland\, United States
CATEGORIES:General
GEO:39.2037144;-76.8610462
END:VEVENT
END:VCALENDAR